BEGIN:VCALENDAR
VERSION:2.0
PRODID:-//Bayerischer Schachbund e.V. - ECPv6.15.11//NONSGML v1.0//EN
CALSCALE:GREGORIAN
METHOD:PUBLISH
X-ORIGINAL-URL:https://www.schachbund-bayern.de
X-WR-CALDESC:Veranstaltungen für Bayerischer Schachbund e.V.
REFRESH-INTERVAL;VALUE=DURATION:PT1H
X-Robots-Tag:noindex
X-PUBLISHED-TTL:PT1H
BEGIN:VTIMEZONE
TZID:Europe/Berlin
BEGIN:DAYLIGHT
TZOFFSETFROM:+0100
TZOFFSETTO:+0200
TZNAME:CEST
DTSTART:20210328T010000
END:DAYLIGHT
BEGIN:STANDARD
TZOFFSETFROM:+0200
TZOFFSETTO:+0100
TZNAME:CET
DTSTART:20211031T010000
END:STANDARD
BEGIN:DAYLIGHT
TZOFFSETFROM:+0100
TZOFFSETTO:+0200
TZNAME:CEST
DTSTART:20220327T010000
END:DAYLIGHT
BEGIN:STANDARD
TZOFFSETFROM:+0200
TZOFFSETTO:+0100
TZNAME:CET
DTSTART:20221030T010000
END:STANDARD
BEGIN:DAYLIGHT
TZOFFSETFROM:+0100
TZOFFSETTO:+0200
TZNAME:CEST
DTSTART:20230326T010000
END:DAYLIGHT
BEGIN:STANDARD
TZOFFSETFROM:+0200
TZOFFSETTO:+0100
TZNAME:CET
DTSTART:20231029T010000
END:STANDARD
END:VTIMEZONE
BEGIN:VEVENT
DTSTART;TZID=Europe/Berlin:20220910T080000
DTEND;TZID=Europe/Berlin:20220911T170000
DTSTAMP:20260424T155307
CREATED:20220807T174241Z
LAST-MODIFIED:20220807T175610Z
UID:7416-1662796800-1662915600@www.schachbund-bayern.de
SUMMARY:C-Trainer-Verlängerungen in Bayern
DESCRIPTION:Werte Schachfreunde\, \ndemnächst stehen folgende C-Trainer-Verlängerungen in Bayern an: \n10.09.2022/11.09.2022 in Neumarkt / Oberpfalz: 2022-C-Trainer_Verlaengerung_20220910 \n15.10.2022/ 16.10.2022 in Kronach / Oberfranken: 2022-C-Trainer_Verlaengerung_20221015 \nIm Weiteren ist ab Ende Oktober in München eine C-Trainer-Ausbildung geplant. Die Termin stehen schon fest. Die Ausschreibungen werden gerade erstellt. \nDie Durchführung einer B-Trainer-Verlängerung findet sich in Bearbeitung. Näheres dazu wird im Laufe des Monats veröffentlicht. \n  \nManfred Schweizer (Referat Ausbildung) \n  \n  \n  \n  \n 
URL:https://www.schachbund-bayern.de/termin/c-trainer-verlaengerungen-in-bayern/
CATEGORIES:Ausbildung
ATTACH;FMTTYPE=image/jpeg:https://www.schachbund-bayern.de/wp-content/uploads/2021/11/tabby-g2b640baa9_1920.jpg
END:VEVENT
END:VCALENDAR